BEGIN:VCALENDAR
VERSION:2.0
PRODID:-//Biggs Institute
 //NONSGML Events //EN
CALSCALE:GREGORIAN
BEGIN:VEVENT
CREATED:20230217T175620Z
UID:7701
DTEND;VALUE=DATE:20230713T173000
DTSTART;VALUE=DATE:20230713T160000
DTSTAMP:20260422T083204Z
LOCATION:Online using Zoom Video
DESCRIPTION:Join our experts in dementia care online every second Thursday of the month for encouraging discussion about caring for a parent living with dementia in a supportive and informative environment with others who are experiencing similar situations.The support group is free to attend and focused on providing support for adults with parents diagnosed with dementia or Alzheimer’s disease.Registration is required. Zoom online video information will be provided after registration.<h3 class="ruled-heading"></h3>&nbsp;<strong>To register or for more information, contact:</strong><strong>Melissa Flores, LPC</strong>Phone: 210-450-8506Email: <a href="mailto:floresm16@uthscsa.edu">floresm16@uthscsa.edu</a>or<span style="font-size: inherit;"><b>Angela Torres, M.S.W.</b></span><span style="font-size: inherit;">Email: <a href="mailto:torresa11@uthscsa.edu">torresa11@uthscsa.edu</a></span>&nbsp;
X-ALT-DESC;FMTTYPE=text/html:Join our experts in dementia care online every second Thursday of the month for encouraging discussion about caring for a parent living with dementia in a supportive and informative environment with others who are experiencing similar situations.<br /><br />The support group is free to attend and focused on providing support for adults with parents diagnosed with dementia or Alzheimer’s disease.<br /><br />Registration is required. Zoom online video information will be provided after registration.<br /><h3 class="ruled-heading"></h3><br />&nbsp;<br /><br /><strong>To register or for more information, contact:</strong><br /><br /><strong>Melissa Flores, LPC</strong><br /><br />Phone: 210-450-8506<br /><br />Email: <a href="mailto:floresm16@uthscsa.edu">floresm16@uthscsa.edu</a><br /><br />or<br /><br /><span style="font-size: inherit;"><b>Angela Torres, M.S.W.</b></span><br /><br /><span style="font-size: inherit;">Email: <a href="mailto:torresa11@uthscsa.edu">torresa11@uthscsa.edu</a></span><br /><br />&nbsp;
SUMMARY:Caring for a Parent with Dementia Support Group
URL;VALUE=URI:https://biggsinstitute.org/events/caring-for-a-parent-group-7-2023/
TRANSP:OPAQUE
END:VEVENT
END:VCALENDAR
