BEGIN:VCALENDAR
VERSION:2.0
PRODID:-//Biggs Institute
 //NONSGML Events //EN
CALSCALE:GREGORIAN
BEGIN:VEVENT
CREATED:20220330T140258Z
UID:6831
DTEND;VALUE=DATE:20220414T110000
DTSTART;VALUE=DATE:20220414T100000
DTSTAMP:20260421T082200Z
LOCATION:Online
DESCRIPTION:Physical activity has a number of benefits for those living with dementia and their caregivers.You are invited to our weekly virtual yoga class to engage in gentle physical exercise led by a trained and experienced yoga instructor, from the comfort of your own home.No experience required. All levels are welcome.Event is free to attend.Registration is required. Online login information will be provided after registration.
X-ALT-DESC;FMTTYPE=text/html:Physical activity has a number of benefits for those living with dementia and their caregivers.<br /><br />You are invited to our weekly virtual yoga class to engage in gentle physical exercise led by a trained and experienced yoga instructor, from the comfort of your own home.<br /><br />No experience required. All levels are welcome.<br /><br />Event is free to attend.<br /><br />Registration is required. Online login information will be provided after registration.
SUMMARY:Virtual Gentle Yoga
URL;VALUE=URI:https://biggsinstitute.org/events/virtual-gentle-yoga-apr-14-22/
TRANSP:OPAQUE
END:VEVENT
END:VCALENDAR
