BEGIN:VCALENDAR
VERSION:2.0
PRODID:-//Biggs Institute
 //NONSGML Events //EN
CALSCALE:GREGORIAN
BEGIN:VEVENT
CREATED:20211005T193600Z
UID:6385
DTEND;VALUE=DATE:20211026T110000
DTSTART;VALUE=DATE:20211026T100000
DTSTAMP:20260421T083014Z
LOCATION:Online
DESCRIPTION:Physical activity has a number of benefits for those living with dementia and their caregivers.For the month of October you are invited to our weekly virtual yoga class to engage in gentle physical exercise led by a trained and experienced yoga instructor, from the comfort of your own home.No experience required. All levels are welcome.Event is free to attend.Registration is required. Online login information will be provided after registration.
X-ALT-DESC;FMTTYPE=text/html:Physical activity has a number of benefits for those living with dementia and their caregivers.<br /><br />For the month of October you are invited to our weekly virtual yoga class to engage in gentle physical exercise led by a trained and experienced yoga instructor, from the comfort of your own home.<br /><br />No experience required. All levels are welcome.<br /><br />Event is free to attend.<br /><br />Registration is required. Online login information will be provided after registration.
SUMMARY:Virtual Gentle Yoga
URL;VALUE=URI:https://biggsinstitute.org/events/yoga-oct-26-21/
TRANSP:OPAQUE
END:VEVENT
END:VCALENDAR
