BEGIN:VCALENDAR
VERSION:2.0
PRODID:-//Biggs Institute
 //NONSGML Events //EN
CALSCALE:GREGORIAN
BEGIN:VEVENT
CREATED:20190528T153822Z
UID:2542
DTEND;VALUE=DATE:20190615T000000
DTSTART;VALUE=DATE:20190615T000000
DTSTAMP:20260421T082213Z
LOCATION:UT Health San Antonio School of Nursing\, 7703 Floyd Curl Drive\, San Antonio\, TX 78209
DESCRIPTION:The Caring for the Caregiver Program and the UT Health San Antonio School of Nursing brings Patient-Centered Outcomes Research Symposium to the 9th Annual Geriatric Conference. This 1.5 day symposium will feature speakers and workshops focused on engaging community members who are living with dementia and family caregivers in Patient-Centered Outcomes Research.All community members are welcome to register here for free.Respite will be offered for courtesy of <a href="http://www.memorycarewestoverhills.com/" target="_blank" rel="nofollow noopener noreferrer">Memory Care of Westover Hills</a>. If you are in need of respite, please contact the caregiver program at 210- 450-8487 prior to the event.<strong>June 14, 2019 5:00 PM - 7:30 PM</strong><strong>June 15, 2019 8:00 AM - 4:30 PM</strong><a href="https://keeplearning.uthscsa.edu/geriatric-conference-agenda/">View the agenda</a><a href="https://ce.uthscsa.edu/browse/nursing/courses/9th-geri-conference">Click here</a> to register for continuing education credits for nurses and social workers.
X-ALT-DESC;FMTTYPE=text/html:The Caring for the Caregiver Program and the UT Health San Antonio School of Nursing brings Patient-Centered Outcomes Research Symposium to the 9th Annual Geriatric Conference. This 1.5 day symposium will feature speakers and workshops focused on engaging community members who are living with dementia and family caregivers in Patient-Centered Outcomes Research.<br /><br />All community members are welcome to register here for free.<br /><br />Respite will be offered for courtesy of <a href="http://www.memorycarewestoverhills.com/" target="_blank" rel="nofollow noopener noreferrer">Memory Care of Westover Hills</a>. If you are in need of respite, please contact the caregiver program at 210- 450-8487 prior to the event.<br /><br /><strong>June 14, 2019 5:00 PM - 7:30 PM</strong><br /><br /><strong>June 15, 2019 8:00 AM - 4:30 PM</strong><br /><br /><a href="https://keeplearning.uthscsa.edu/geriatric-conference-agenda/">View the agenda</a><br /><br /><a href="https://ce.uthscsa.edu/browse/nursing/courses/9th-geri-conference">Click here</a> to register for continuing education credits for nurses and social workers.
SUMMARY:9th Annual Geriatric Conference: Building Partnerships for Geriatric Care
URL;VALUE=URI:https://biggsinstitute.org/events/9th-annual-geriatric-conference-building-partnerships-for-geriatric-care/
TRANSP:OPAQUE
END:VEVENT
END:VCALENDAR
