BEGIN:VCALENDAR
VERSION:2.0
PRODID:-//Biggs Institute
 //NONSGML Events //EN
CALSCALE:GREGORIAN
BEGIN:VEVENT
CREATED:20260225T123340Z
UID:11038
DTEND;VALUE=DATE:20260320T130000
DTSTART;VALUE=DATE:20260320T110000
DTSTAMP:20260421T082146Z
LOCATION:UT Health San Antonio Center for Brain Health\, Second Floor Ann Biggs Community Room\, 4940 Charles Katz Dr.\, San Antonio\, TX 78229
DESCRIPTION:Join us for this free interactive art experience designed for individuals living with dementia and their loved ones. This uplifting event is all about shared memories and creative expression at our new Center for Brain Health.<strong> What to Expect:</strong><ul> 	<li>Guided conversations on art led by expert art educators from the San Antonio Museum of Art.</li> 	<li>Inclusive discussions that spark conversation and connection.</li> 	<li>Hands-on art-making to unleash creativity and celebrate community.</li> 	<li>Lunch, art supplies, and parking—all FREE with registration!</li></ul><strong>Space is limited, so reserve your spot today!</strong><strong>Registration is required.</strong>ReCollections at the Center for Brain Health is a free program in partnership with the San Antonio Museum of Art.
X-ALT-DESC;FMTTYPE=text/html:Join us for this free interactive art experience designed for individuals living with dementia and their loved ones. This uplifting event is all about shared memories and creative expression at our new Center for Brain Health.<br /><br /><strong> What to Expect:</strong><br /><ul><br /> 	<li>Guided conversations on art led by expert art educators from the San Antonio Museum of Art.</li><br /> 	<li>Inclusive discussions that spark conversation and connection.</li><br /> 	<li>Hands-on art-making to unleash creativity and celebrate community.</li><br /> 	<li>Lunch, art supplies, and parking—all FREE with registration!</li><br /></ul><br /><strong>Space is limited, so reserve your spot today!</strong><br /><strong>Registration is required.</strong><br /><br />ReCollections at the Center for Brain Health is a free program in partnership with the San Antonio Museum of Art.
SUMMARY:ReCollections: Art Conversations with the San Antonio Museum of Art at the Center for Brain Health
URL;VALUE=URI:https://biggsinstitute.org/events/recollections-at-cbh-3-2026/
TRANSP:OPAQUE
END:VEVENT
END:VCALENDAR
